BEGIN:VCALENDAR
VERSION:2.0
PRODID:-//GETINKVISIONMFG - ECPv6.10.1.1//NONSGML v1.0//EN
CALSCALE:GREGORIAN
METHOD:PUBLISH
X-WR-CALNAME:GETINKVISIONMFG
X-ORIGINAL-URL:https://getinkvisionmfg.com
X-WR-CALDESC:Events for GETINKVISIONMFG
REFRESH-INTERVAL;VALUE=DURATION:PT1H
X-Robots-Tag:noindex
X-PUBLISHED-TTL:PT1H
BEGIN:VTIMEZONE
TZID:UTC
BEGIN:STANDARD
TZOFFSETFROM:+0000
TZOFFSETTO:+0000
TZNAME:UTC
DTSTART:20240101T000000
END:STANDARD
END:VTIMEZONE
BEGIN:VEVENT
DTSTART;TZID=UTC:20250710T100000
DTEND;TZID=UTC:20250710T110000
DTSTAMP:20260420T043256
CREATED:20240526T191659Z
LAST-MODIFIED:20250227T060338Z
UID:698-1752141600-1752145200@getinkvisionmfg.com
SUMMARY:The researche team is filled with disciplinary
DESCRIPTION:Managing interactions customers throughout the entire customer lifecycle of the deal hub exploration & discovery in these realm of uncommon & extraordinary chemical phenomena. An magnanis aliqua.bands needs no occasion too be gifted and can be given as gifts whenever onewishes to. Eternity bands are also known as the wedding bandse. The circular loop of diamonds signifies eternal and morer unending love. \nThis sentiment is what makes the eternity band a perfect gift for couples on special occasions\, such as anniries\, childbirth or anything that makes a difference to their life.dolor sit and amet consectetur ander adipiscing elites eiusmod tempor incididunt labore et dolore magna aliqua. Bands needs no occasion too be gifted and can been given as gifts whenever onewishes to. Eternity bands are also known as the wedding bands. The circular looper of diamonds signifies eternal and unending love. \n\n\n\n\n\n\n\n\n\n\nKey Points Of This Session\nWelcome to the Labout Rare Chemistry Research Documentation Center\, a hub exploration & discovery in these realm of uncommon & extraordinary chemical phenomena. An magnanis aliqua.bands needs no occasion too be gifted and can be given as gifts whenever onewishes to. Eternity bands are also known as the wedding bandse. The circular loop of diamonds signifies eternal and morer unending love. \n\nImproving all types of opportunities\nQuick solutions for daily problems\nCommunity that grows larger
URL:https://getinkvisionmfg.com/event/the-researche-team-is-filled-with-disciplinary/
LOCATION:United State
CATEGORIES:Future Events
ATTACH;FMTTYPE=image/jpeg:https://getinkvisionmfg.com/wp-content/uploads/2024/05/testimonial-bg.jpg
END:VEVENT
BEGIN:VEVENT
DTSTART;TZID=UTC:20250624T100000
DTEND;TZID=UTC:20250624T110000
DTSTAMP:20260420T043256
CREATED:20240526T191525Z
LAST-MODIFIED:20250227T060338Z
UID:696-1750759200-1750762800@getinkvisionmfg.com
SUMMARY:Decade of Action on Nutrition and Global Initiatives
DESCRIPTION:Managing interactions customers throughout the entire customer lifecycle of the deal hub exploration & discovery in these realm of uncommon & extraordinary chemical phenomena. An magnanis aliqua.bands needs no occasion too be gifted and can be given as gifts whenever onewishes to. Eternity bands are also known as the wedding bandse. The circular loop of diamonds signifies eternal and morer unending love. \nThis sentiment is what makes the eternity band a perfect gift for couples on special occasions\, such as anniries\, childbirth or anything that makes a difference to their life.dolor sit and amet consectetur ander adipiscing elites eiusmod tempor incididunt labore et dolore magna aliqua. Bands needs no occasion too be gifted and can been given as gifts whenever onewishes to. Eternity bands are also known as the wedding bands. The circular looper of diamonds signifies eternal and unending love. \n\n\n\n\n\n\n\n\n\n\nKey Points Of This Session\nWelcome to the Labout Rare Chemistry Research Documentation Center\, a hub exploration & discovery in these realm of uncommon & extraordinary chemical phenomena. An magnanis aliqua.bands needs no occasion too be gifted and can be given as gifts whenever onewishes to. Eternity bands are also known as the wedding bandse. The circular loop of diamonds signifies eternal and morer unending love. \n\nImproving all types of opportunities\nQuick solutions for daily problems\nCommunity that grows larger
URL:https://getinkvisionmfg.com/event/decade-of-action-on-nutrition-and-global-initiatives/
LOCATION:United State
CATEGORIES:Future Events
ATTACH;FMTTYPE=image/jpeg:https://getinkvisionmfg.com/wp-content/uploads/2024/05/events-bg-2.jpg
END:VEVENT
BEGIN:VEVENT
DTSTART;TZID=UTC:20250620T100000
DTEND;TZID=UTC:20250620T110000
DTSTAMP:20260420T043256
CREATED:20240526T191942Z
LAST-MODIFIED:20250227T060338Z
UID:700-1750413600-1750417200@getinkvisionmfg.com
SUMMARY:Freshly Cosmetics Payment Makeover
DESCRIPTION:The Information technology and software in development Problems solutions hub exploration & discovery in these realm of uncommon & extraordinary chemical phenomena. An magnanis aliqua.bands needs no occasion too be gifted and can be given as gifts whenever onewishes to. Eternity bands are also known as the wedding bandse. The circular loop of diamonds signifies eternal and morer unending love. \nThis sentiment is what makes the eternity band a perfect gift for couples on special occasions\, such as anniries\, childbirth or anything that makes a difference to their life.dolor sit and amet consectetur ander adipiscing elites eiusmod tempor incididunt labore et dolore magna aliqua. Bands needs no occasion too be gifted and can been given as gifts whenever onewishes to. Eternity bands are also known as the wedding bands. The circular looper of diamonds signifies eternal and unending love. \n\n\n\n\n\n\n\n\n\n\nKey Points Of This Session\nWelcome to the Labout Rare Chemistry Research Documentation Center\, a hub exploration & discovery in these realm of uncommon & extraordinary chemical phenomena. An magnanis aliqua.bands needs no occasion too be gifted and can be given as gifts whenever onewishes to. Eternity bands are also known as the wedding bandse. The circular loop of diamonds signifies eternal and morer unending love. \n\nImproving all types of opportunities\nQuick solutions for daily problems\nCommunity that grows larger
URL:https://getinkvisionmfg.com/event/freshly-cosmetics-payment-makeover/
LOCATION:United State
CATEGORIES:Future Events
ATTACH;FMTTYPE=image/jpeg:https://getinkvisionmfg.com/wp-content/uploads/2024/05/service-9.jpg
END:VEVENT
BEGIN:VEVENT
DTSTART;TZID=UTC:20250320T100000
DTEND;TZID=UTC:20250320T110000
DTSTAMP:20260420T043256
CREATED:20240526T185112Z
LAST-MODIFIED:20250227T060337Z
UID:687-1742464800-1742468400@getinkvisionmfg.com
SUMMARY:Amy Butler Receives AGU Ascent Award
DESCRIPTION:Managing interactions customers throughout the entire customer lifecycle of the deal hub exploration & discovery in these realm of uncommon & extraordinary chemical phenomena. An magnanis aliqua.bands needs no occasion too be gifted and can be given as gifts whenever onewishes to. Eternity bands are also known as the wedding bandse. The circular loop of diamonds signifies eternal and morer unending love. \nThis sentiment is what makes the eternity band a perfect gift for couples on special occasions\, such as anniries\, childbirth or anything that makes a difference to their life.dolor sit and amet consectetur ander adipiscing elites eiusmod tempor incididunt labore et dolore magna aliqua. Bands needs no occasion too be gifted and can been given as gifts whenever onewishes to. Eternity bands are also known as the wedding bands. The circular looper of diamonds signifies eternal and unending love. \n\n\n\n\n\n\n\n\n\n\nKey Points Of This Session\nWelcome to the Labout Rare Chemistry Research Documentation Center\, a hub exploration & discovery in these realm of uncommon & extraordinary chemical phenomena. An magnanis aliqua.bands needs no occasion too be gifted and can be given as gifts whenever onewishes to. Eternity bands are also known as the wedding bandse. The circular loop of diamonds signifies eternal and morer unending love. \n\nImproving all types of opportunities\nQuick solutions for daily problems\nCommunity that grows larger
URL:https://getinkvisionmfg.com/event/amy-butler-receives-agu-ascent-award/
LOCATION:White Palace\, New York
CATEGORIES:Future Events
ATTACH;FMTTYPE=image/jpeg:https://getinkvisionmfg.com/wp-content/uploads/2024/05/research-9.jpg
END:VEVENT
BEGIN:VEVENT
DTSTART;TZID=UTC:20250312T100000
DTEND;TZID=UTC:20250312T110000
DTSTAMP:20260420T043256
CREATED:20240526T190857Z
LAST-MODIFIED:20250227T060337Z
UID:689-1741773600-1741777200@getinkvisionmfg.com
SUMMARY:Information Administration Energy Program
DESCRIPTION:The Information technology and software in development Problems solutions hub exploration & discovery in these realm of uncommon & extraordinary chemical phenomena. An magnanis aliqua.bands needs no occasion too be gifted and can be given as gifts whenever onewishes to. Eternity bands are also known as the wedding bandse. The circular loop of diamonds signifies eternal and morer unending love. \nThis sentiment is what makes the eternity band a perfect gift for couples on special occasions\, such as anniries\, childbirth or anything that makes a difference to their life.dolor sit and amet consectetur ander adipiscing elites eiusmod tempor incididunt labore et dolore magna aliqua. Bands needs no occasion too be gifted and can been given as gifts whenever onewishes to. Eternity bands are also known as the wedding bands. The circular looper of diamonds signifies eternal and unending love. \n\n\n\n\n\n\n\n\n\n\nKey Points Of This Session\nWelcome to the Labout Rare Chemistry Research Documentation Center\, a hub exploration & discovery in these realm of uncommon & extraordinary chemical phenomena. An magnanis aliqua.bands needs no occasion too be gifted and can be given as gifts whenever onewishes to. Eternity bands are also known as the wedding bandse. The circular loop of diamonds signifies eternal and morer unending love. \n\nImproving all types of opportunities\nQuick solutions for daily problems\nCommunity that grows larger
URL:https://getinkvisionmfg.com/event/information-administration-energy-program/
LOCATION:United State
CATEGORIES:Future Events
ATTACH;FMTTYPE=image/jpeg:https://getinkvisionmfg.com/wp-content/uploads/2024/05/service-7.jpg
END:VEVENT
BEGIN:VEVENT
DTSTART;TZID=UTC:20250312T100000
DTEND;TZID=UTC:20250312T110000
DTSTAMP:20260420T043256
CREATED:20240525T110941Z
LAST-MODIFIED:20250227T060336Z
UID:238-1741773600-1741777200@getinkvisionmfg.com
SUMMARY:Organic Chemistry Research Laboratory
DESCRIPTION:Managing interactions customers throughout the entire customer lifecycle of the deal hub exploration & discovery in these realm of uncommon & extraordinary chemical phenomena. An magnanis aliqua.bands needs no occasion too be gifted and can be given as gifts whenever onewishes to. Eternity bands are also known as the wedding bandse. The circular loop of diamonds signifies eternal and morer unending love. \nThis sentiment is what makes the eternity band a perfect gift for couples on special occasions\, such as anniries\, childbirth or anything that makes a difference to their life.dolor sit and amet consectetur ander adipiscing elites eiusmod tempor incididunt labore et dolore magna aliqua. Bands needs no occasion too be gifted and can been given as gifts whenever onewishes to. Eternity bands are also known as the wedding bands. The circular looper of diamonds signifies eternal and unending love. \n\n\n\n\n\n\n\n\n\n\nKey Points Of This Session\nWelcome to the Labout Rare Chemistry Research Documentation Center\, a hub exploration & discovery in these realm of uncommon & extraordinary chemical phenomena. An magnanis aliqua.bands needs no occasion too be gifted and can be given as gifts whenever onewishes to. Eternity bands are also known as the wedding bandse. The circular loop of diamonds signifies eternal and morer unending love. \n\nImproving all types of opportunities\nQuick solutions for daily problems\nCommunity that grows larger
URL:https://getinkvisionmfg.com/event/organic-chemistry-research-laboratory/
LOCATION:United State
CATEGORIES:Future Events
ATTACH;FMTTYPE=image/jpeg:https://getinkvisionmfg.com/wp-content/uploads/2024/05/events-2.jpg
END:VEVENT
BEGIN:VEVENT
DTSTART;TZID=UTC:20250216T100000
DTEND;TZID=UTC:20250216T110000
DTSTAMP:20260420T043256
CREATED:20240526T191348Z
LAST-MODIFIED:20250227T060337Z
UID:694-1739700000-1739703600@getinkvisionmfg.com
SUMMARY:Nutritional Status Monitoring & Food Safety Events
DESCRIPTION:The systematic investigation and experiment to develop new products\, processes improve hub exploration & discovery in these realm of uncommon & extraordinary chemical phenomena. An magnanis aliqua.bands needs no occasion too be gifted and can be given as gifts whenever onewishes to. Eternity bands are also known as the wedding bandse. The circular loop of diamonds signifies eternal and morer unending love. \nThis sentiment is what makes the eternity band a perfect gift for couples on special occasions\, such as anniries\, childbirth or anything that makes a difference to their life.dolor sit and amet consectetur ander adipiscing elites eiusmod tempor incididunt labore et dolore magna aliqua. Bands needs no occasion too be gifted and can been given as gifts whenever onewishes to. Eternity bands are also known as the wedding bands. The circular looper of diamonds signifies eternal and unending love. \n\n\n\n\n\n\n\n\n\n\nKey Points Of This Session\nWelcome to the Labout Rare Chemistry Research Documentation Center\, a hub exploration & discovery in these realm of uncommon & extraordinary chemical phenomena. An magnanis aliqua.bands needs no occasion too be gifted and can be given as gifts whenever onewishes to. Eternity bands are also known as the wedding bandse. The circular loop of diamonds signifies eternal and morer unending love. \n\nImproving all types of opportunities\nQuick solutions for daily problems\nCommunity that grows larger
URL:https://getinkvisionmfg.com/event/nutritional-status-monitoring-food-safety-events/
LOCATION:United State
CATEGORIES:Future Events
ATTACH;FMTTYPE=image/jpeg:https://getinkvisionmfg.com/wp-content/uploads/2024/05/news-18.jpg
END:VEVENT
BEGIN:VEVENT
DTSTART;TZID=UTC:20250216T100000
DTEND;TZID=UTC:20250216T110000
DTSTAMP:20260420T043256
CREATED:20240525T111357Z
LAST-MODIFIED:20250227T060336Z
UID:241-1739700000-1739703600@getinkvisionmfg.com
SUMMARY:The research team is filled with multidisciplinary
DESCRIPTION:The systematic investigation and experiment to develop new products\, processes improve hub exploration & discovery in these realm of uncommon & extraordinary chemical phenomena. An magnanis aliqua.bands needs no occasion too be gifted and can be given as gifts whenever onewishes to. Eternity bands are also known as the wedding bandse. The circular loop of diamonds signifies eternal and morer unending love. \nThis sentiment is what makes the eternity band a perfect gift for couples on special occasions\, such as anniries\, childbirth or anything that makes a difference to their life.dolor sit and amet consectetur ander adipiscing elites eiusmod tempor incididunt labore et dolore magna aliqua. Bands needs no occasion too be gifted and can been given as gifts whenever onewishes to. Eternity bands are also known as the wedding bands. The circular looper of diamonds signifies eternal and unending love. \n\n\n\n\n\n\n\n\n\n\nKey Points Of This Session\nWelcome to the Labout Rare Chemistry Research Documentation Center\, a hub exploration & discovery in these realm of uncommon & extraordinary chemical phenomena. An magnanis aliqua.bands needs no occasion too be gifted and can be given as gifts whenever onewishes to. Eternity bands are also known as the wedding bandse. The circular loop of diamonds signifies eternal and morer unending love. \n\nImproving all types of opportunities\nQuick solutions for daily problems\nCommunity that grows larger
URL:https://getinkvisionmfg.com/event/the-research-team-is-filled-with-multidisciplinary/
LOCATION:United State
CATEGORIES:Future Events
ATTACH;FMTTYPE=image/jpeg:https://getinkvisionmfg.com/wp-content/uploads/2024/05/events-3.jpg
END:VEVENT
BEGIN:VEVENT
DTSTART;TZID=UTC:20240624T100000
DTEND;TZID=UTC:20240624T110000
DTSTAMP:20260420T043256
CREATED:20240525T110302Z
LAST-MODIFIED:20250227T060336Z
UID:225-1719223200-1719226800@getinkvisionmfg.com
SUMMARY:Freshly Cosmetics Payments Makeover
DESCRIPTION:The Information technology and software in development Problems solutions hub exploration & discovery in these realm of uncommon & extraordinary chemical phenomena. An magnanis aliqua.bands needs no occasion too be gifted and can be given as gifts whenever onewishes to. Eternity bands are also known as the wedding bandse. The circular loop of diamonds signifies eternal and morer unending love. \nThis sentiment is what makes the eternity band a perfect gift for couples on special occasions\, such as anniries\, childbirth or anything that makes a difference to their life.dolor sit and amet consectetur ander adipiscing elites eiusmod tempor incididunt labore et dolore magna aliqua. Bands needs no occasion too be gifted and can been given as gifts whenever onewishes to. Eternity bands are also known as the wedding bands. The circular looper of diamonds signifies eternal and unending love. \n\n\n\n\n\n\n\n\n\n\nKey Points Of This Session\nWelcome to the Labout Rare Chemistry Research Documentation Center\, a hub exploration & discovery in these realm of uncommon & extraordinary chemical phenomena. An magnanis aliqua.bands needs no occasion too be gifted and can be given as gifts whenever onewishes to. Eternity bands are also known as the wedding bandse. The circular loop of diamonds signifies eternal and morer unending love. \n\nImproving all types of opportunities\nQuick solutions for daily problems\nCommunity that grows larger
URL:https://getinkvisionmfg.com/event/freshly-cosmetics-payments-makeover/
LOCATION:United State
CATEGORIES:Future Events
ATTACH;FMTTYPE=image/jpeg:https://getinkvisionmfg.com/wp-content/uploads/2024/05/events-1.jpg
END:VEVENT
BEGIN:VEVENT
DTSTART;TZID=UTC:20240624T080000
DTEND;TZID=UTC:20240624T160000
DTSTAMP:20260420T043256
CREATED:20240526T184333Z
LAST-MODIFIED:20250227T060337Z
UID:684-1719216000-1719244800@getinkvisionmfg.com
SUMMARY:Our Sponsorship Meetup will be Held Again
DESCRIPTION:Encouraging recycling initiatives and the reuse of materials helps reduce the volume & discovery in these realm of uncommon & extraordinary chemical phenomena. An magnanis aliqua.bands needs no occasion too be gifted and can be given as gifts whenever onewishes to. Eternity bands are also known as the wedding bandse. The circular loop of diamonds signifies eternal and morer unending love. \nThis sentiment is what makes the eternity band a perfect gift for couples on special occasions\, such as anniries\, childbirth or anything that makes a difference to their life.dolor sit and amet consectetur ander adipiscing elites eiusmod tempor incididunt labore et dolore magna aliqua. Bands needs no occasion too be gifted and can been given as gifts whenever onewishes to. Eternity bands are also known as the wedding bands. The circular looper of diamonds signifies eternal and unending love. \n\n\n\n\n\n\n\n\n\n\nKey Points Of This Session\nWelcome to the Labout Rare Chemistry Research Documentation Center\, a hub exploration & discovery in these realm of uncommon & extraordinary chemical phenomena. An magnanis aliqua.bands needs no occasion too be gifted and can be given as gifts whenever onewishes to. Eternity bands are also known as the wedding bandse. The circular loop of diamonds signifies eternal and morer unending love. \n\nImproving all types of opportunities\nQuick solutions for daily problems\nCommunity that grows larger
URL:https://getinkvisionmfg.com/event/our-sponsorship-meetup-will-be-held-again/
LOCATION:75 Roling Green Rd
CATEGORIES:Labout Events
ATTACH;FMTTYPE=image/jpeg:https://getinkvisionmfg.com/wp-content/uploads/2024/05/events-4.jpg
END:VEVENT
END:VCALENDAR